BEGIN:VCALENDAR
VERSION:2.0
PRODID:-//Tukios.com/
BEGIN:VEVENT
UID:9ff58dc4-9c63-40c2-9bfa-8735b3bf3f4a@www.pierfh.com
DTSTAMP:20260421T090217Z
DTSTART:20260420T190000Z
DTEND:20260420T200000Z
SUMMARY:Memorial Service
DESCRIPTION:
URL:https://www.pierfh.com/obituaries/robert-morgan
LOCATION:Niobrara Senior Center 101 West 4th Street  Lusk WY 82225
GEO:42.7614682;-104.4525339
END:VEVENT
END:VCALENDAR